BEGIN:VCALENDAR
VERSION:2.0
PRODID:-//National Apple Museum - ECPv6.15.20//NONSGML v1.0//EN
CALSCALE:GREGORIAN
METHOD:PUBLISH
X-ORIGINAL-URL:https://www.nationalapplemuseum.com
X-WR-CALDESC:Events for National Apple Museum
REFRESH-INTERVAL;VALUE=DURATION:PT1H
X-Robots-Tag:noindex
X-PUBLISHED-TTL:PT1H
BEGIN:VTIMEZONE
TZID:America/New_York
BEGIN:DAYLIGHT
TZOFFSETFROM:-0500
TZOFFSETTO:-0400
TZNAME:EDT
DTSTART:20250309T070000
END:DAYLIGHT
BEGIN:STANDARD
TZOFFSETFROM:-0400
TZOFFSETTO:-0500
TZNAME:EST
DTSTART:20251102T060000
END:STANDARD
BEGIN:DAYLIGHT
TZOFFSETFROM:-0500
TZOFFSETTO:-0400
TZNAME:EDT
DTSTART:20260308T070000
END:DAYLIGHT
BEGIN:STANDARD
TZOFFSETFROM:-0400
TZOFFSETTO:-0500
TZNAME:EST
DTSTART:20261101T060000
END:STANDARD
BEGIN:DAYLIGHT
TZOFFSETFROM:-0500
TZOFFSETTO:-0400
TZNAME:EDT
DTSTART:20270314T070000
END:DAYLIGHT
BEGIN:STANDARD
TZOFFSETFROM:-0400
TZOFFSETTO:-0500
TZNAME:EST
DTSTART:20271107T060000
END:STANDARD
END:VTIMEZONE
BEGIN:VEVENT
DTSTART;TZID=America/New_York:20260411T130000
DTEND;TZID=America/New_York:20260411T150000
DTSTAMP:20260419T094805
CREATED:20251018T221845Z
LAST-MODIFIED:20251018T225508Z
UID:3933-1775912400-1775919600@www.nationalapplemuseum.com
SUMMARY:America 250 Patriot Rededication Ceremony
DESCRIPTION:Come enjoy live period music\, inspiring patriotic words\, delicious local food\, and fascinating history! \n\nThe public is cordially invited to join us at Benders Lutheran Church (1385 Rentzel Rd.\, Biglerville) to rededicate a Daughters of the American Revolution monument honoring 22 local men who fought in the American Revolution.\n\nA reception will follow celebrating America 250\, the Biglerville Historical and Preservation Society’s 30th anniversary\, and Benders Evangelical Lutheran Church’s 245th anniversary. Pastor Ryan will offer a recreation of a 1781 church service directly following the reception. Descendants of these patriots are invited to be honored as well.\n\nPatriots to be honored: ADAM BENDER\, JACOB MEALS\, WILLIAM BENDER\, JOHN HENRY MIHL\, JOHANN SAMUEL DIETRICK\, WILLIAM PETER\, ULRICH DOTERY\, JOHN REIF\, HENRICH EICHOLTZ\, FREIDRICH REX\, DANIEL\, SR. EYSTER\, GEORGE REX\, GEORGE JACOB GARDNER\, WILLIAM SCHNER\,\n\nKASPER GILBERT\, BERNHARDT WIRTH\, JACOB GILBERT\, GEORGE HARTZEL\, GEORGE DIETRICH\, JOHAN NICKLAS\nHUBER\, GEORGE DIETRICH\, NICHOLAS MAURER\n\nBesides honoring descendants of these 22 patriots who helped the cause of the American Revolution\, we will enjoy an uplifting community event bringing us together to celebrate Adams County residents who made great sacrifices to give us the freedoms we enjoy today.
URL:https://www.nationalapplemuseum.com/event/3933/
LOCATION:Bender’s Lutheran Church\, 1385 Rentzel Rd.\, Biglerville\, PA\, 17350\, United States
ATTACH;FMTTYPE=image/jpeg:https://www.nationalapplemuseum.com/wp-content/uploads/2025/10/DAR-Revolutionary-Memorial.jpg
ORGANIZER;CN="National Apple Museum":MAILTO:biglervillehps@gmail.com
END:VEVENT
END:VCALENDAR